BEGIN:VCALENDAR
VERSION:2.0
PRODID:-//Lucía Gutiérrez Gual - ECPv6.15.20//NONSGML v1.0//EN
CALSCALE:GREGORIAN
METHOD:PUBLISH
X-WR-CALNAME:Lucía Gutiérrez Gual
X-ORIGINAL-URL:https://luciagutierrezgual.com
X-WR-CALDESC:Events for Lucía Gutiérrez Gual
REFRESH-INTERVAL;VALUE=DURATION:PT1H
X-Robots-Tag:noindex
X-PUBLISHED-TTL:PT1H
BEGIN:VTIMEZONE
TZID:Europe/Zurich
BEGIN:DAYLIGHT
TZOFFSETFROM:+0100
TZOFFSETTO:+0200
TZNAME:CEST
DTSTART:20220327T010000
END:DAYLIGHT
BEGIN:STANDARD
TZOFFSETFROM:+0200
TZOFFSETTO:+0100
TZNAME:CET
DTSTART:20221030T010000
END:STANDARD
BEGIN:DAYLIGHT
TZOFFSETFROM:+0100
TZOFFSETTO:+0200
TZNAME:CEST
DTSTART:20230326T010000
END:DAYLIGHT
BEGIN:STANDARD
TZOFFSETFROM:+0200
TZOFFSETTO:+0100
TZNAME:CET
DTSTART:20231029T010000
END:STANDARD
BEGIN:DAYLIGHT
TZOFFSETFROM:+0100
TZOFFSETTO:+0200
TZNAME:CEST
DTSTART:20240331T010000
END:DAYLIGHT
BEGIN:STANDARD
TZOFFSETFROM:+0200
TZOFFSETTO:+0100
TZNAME:CET
DTSTART:20241027T010000
END:STANDARD
END:VTIMEZONE
BEGIN:VEVENT
DTSTART;TZID=Europe/Zurich:20231229T193000
DTEND;TZID=Europe/Zurich:20231229T210000
DTSTAMP:20260422T054544
CREATED:20231214T152938Z
LAST-MODIFIED:20231215T170427Z
UID:101-1703878200-1703883600@luciagutierrezgual.com
SUMMARY:Orquestra Simfònica de Castelló
DESCRIPTION:
URL:https://luciagutierrezgual.com/event/orquestra-simfonica-de-castello/
LOCATION:Auditori i Palau de Congressos de Castelló\, Av. de la Mare de Déu del Lledó\, 50\, Castelló de la Plana\, Castelló\, 12004\, Spain
END:VEVENT
END:VCALENDAR