BEGIN:VCALENDAR
VERSION:2.0
PRODID:-//Lucía Gutiérrez Gual - ECPv6.15.20//NONSGML v1.0//EN
CALSCALE:GREGORIAN
METHOD:PUBLISH
X-WR-CALNAME:Lucía Gutiérrez Gual
X-ORIGINAL-URL:https://luciagutierrezgual.com
X-WR-CALDESC:Events for Lucía Gutiérrez Gual
REFRESH-INTERVAL;VALUE=DURATION:PT1H
X-Robots-Tag:noindex
X-PUBLISHED-TTL:PT1H
BEGIN:VTIMEZONE
TZID:Europe/Zurich
BEGIN:DAYLIGHT
TZOFFSETFROM:+0100
TZOFFSETTO:+0200
TZNAME:CEST
DTSTART:20240331T010000
END:DAYLIGHT
BEGIN:STANDARD
TZOFFSETFROM:+0200
TZOFFSETTO:+0100
TZNAME:CET
DTSTART:20241027T010000
END:STANDARD
BEGIN:DAYLIGHT
TZOFFSETFROM:+0100
TZOFFSETTO:+0200
TZNAME:CEST
DTSTART:20250330T010000
END:DAYLIGHT
BEGIN:STANDARD
TZOFFSETFROM:+0200
TZOFFSETTO:+0100
TZNAME:CET
DTSTART:20251026T010000
END:STANDARD
BEGIN:DAYLIGHT
TZOFFSETFROM:+0100
TZOFFSETTO:+0200
TZNAME:CEST
DTSTART:20260329T010000
END:DAYLIGHT
BEGIN:STANDARD
TZOFFSETFROM:+0200
TZOFFSETTO:+0100
TZNAME:CET
DTSTART:20261025T010000
END:STANDARD
END:VTIMEZONE
BEGIN:VEVENT
DTSTART;TZID=Europe/Zurich:20251218T193000
DTEND;TZID=Europe/Zurich:20251218T213000
DTSTAMP:20260421T220328
CREATED:20251106T132932Z
LAST-MODIFIED:20251106T133035Z
UID:805-1766086200-1766093400@luciagutierrezgual.com
SUMMARY:BSO Winterträume
DESCRIPTION:
URL:https://luciagutierrezgual.com/event/wintertraume/
LOCATION:Casino Bern\, Casinopl. 1\, Bern\, 3011\, Switzerland
ATTACH;FMTTYPE=image/jpeg:https://luciagutierrezgual.com/wp-content/uploads/2025/11/header_bso_05syko_wintertraeume-min.1920x0.jpg
END:VEVENT
BEGIN:VEVENT
DTSTART;TZID=Europe/Zurich:20251215T193000
DTEND;TZID=Europe/Zurich:20251215T213000
DTSTAMP:20260421T220328
CREATED:20251124T213600Z
LAST-MODIFIED:20251124T213600Z
UID:862-1765827000-1765834200@luciagutierrezgual.com
SUMMARY:City Light: Interstellar
DESCRIPTION:
URL:https://luciagutierrezgual.com/event/city-light-interstellar-3/
ATTACH;FMTTYPE=image/png:https://luciagutierrezgual.com/wp-content/uploads/2025/11/1759914243-interstellar-copia.png
END:VEVENT
BEGIN:VEVENT
DTSTART;TZID=Europe/Zurich:20251206T193000
DTEND;TZID=Europe/Zurich:20251206T213000
DTSTAMP:20260421T220328
CREATED:20251124T213506Z
LAST-MODIFIED:20251124T213506Z
UID:860-1765049400-1765056600@luciagutierrezgual.com
SUMMARY:City Light: Interstellar
DESCRIPTION:
URL:https://luciagutierrezgual.com/event/city-light-interstellar-2/
ATTACH;FMTTYPE=image/png:https://luciagutierrezgual.com/wp-content/uploads/2025/11/1759914243-interstellar-copia.png
END:VEVENT
BEGIN:VEVENT
DTSTART;TZID=Europe/Zurich:20251205T193000
DTEND;TZID=Europe/Zurich:20251205T213000
DTSTAMP:20260421T220328
CREATED:20251124T213441Z
LAST-MODIFIED:20251124T213441Z
UID:856-1764963000-1764970200@luciagutierrezgual.com
SUMMARY:City Light: Interstellar
DESCRIPTION:
URL:https://luciagutierrezgual.com/event/city-light-interstellar/
ATTACH;FMTTYPE=image/png:https://luciagutierrezgual.com/wp-content/uploads/2025/11/1759914243-interstellar-copia.png
END:VEVENT
BEGIN:VEVENT
DTSTART;TZID=Europe/Zurich:20251130T170000
DTEND;TZID=Europe/Zurich:20251130T183000
DTSTAMP:20260421T220328
CREATED:20251112T103203Z
LAST-MODIFIED:20251112T103529Z
UID:845-1764522000-1764527400@luciagutierrezgual.com
SUMMARY:Klassik Nuevo: Chor&Bündig & Christoph Croisé
DESCRIPTION:
URL:https://luciagutierrezgual.com/event/klassik-nuevo/
LOCATION:Stadtkirche Lenzburg\, Poststrasse 1\, Lenzburg\, 5600\, Switzerland
ATTACH;FMTTYPE=image/webp:https://luciagutierrezgual.com/wp-content/uploads/2025/11/kn-aargau-tour-2025_lenzburg_teaser-homepage_1080x810px_250917.jpg-1.webp
END:VEVENT
BEGIN:VEVENT
DTSTART;TZID=Europe/Zurich:20251128T193000
DTEND;TZID=Europe/Zurich:20251128T213000
DTSTAMP:20260421T220328
CREATED:20251106T132643Z
LAST-MODIFIED:20251106T132643Z
UID:803-1764358200-1764365400@luciagutierrezgual.com
SUMMARY:BSO Die vier Elemente
DESCRIPTION:
URL:https://luciagutierrezgual.com/event/bso-die-vier-elemente/
LOCATION:Casino Bern\, Casinopl. 1\, Bern\, 3011\, Switzerland
ATTACH;FMTTYPE=image/jpeg:https://luciagutierrezgual.com/wp-content/uploads/2025/11/header_bso_04syko_elemente-min.1920x0.jpg
END:VEVENT
BEGIN:VEVENT
DTSTART;TZID=Europe/Zurich:20251127T193000
DTEND;TZID=Europe/Zurich:20251127T213000
DTSTAMP:20260421T220328
CREATED:20251106T132435Z
LAST-MODIFIED:20251106T132435Z
UID:800-1764271800-1764279000@luciagutierrezgual.com
SUMMARY:BSO Die vier Elemente
DESCRIPTION:
URL:https://luciagutierrezgual.com/event/dievierelemente/
LOCATION:Casino Bern\, Casinopl. 1\, Bern\, 3011\, Switzerland
ATTACH;FMTTYPE=image/jpeg:https://luciagutierrezgual.com/wp-content/uploads/2025/11/header_bso_04syko_elemente-min.1920x0.jpg
END:VEVENT
BEGIN:VEVENT
DTSTART;TZID=Europe/Zurich:20251123T170000
DTEND;TZID=Europe/Zurich:20251123T183000
DTSTAMP:20260421T220328
CREATED:20251112T102704Z
LAST-MODIFIED:20251112T102847Z
UID:838-1763917200-1763922600@luciagutierrezgual.com
SUMMARY:Klassik Nuevo: Kinder Konzert
DESCRIPTION:
URL:https://luciagutierrezgual.com/event/klassik-nuevo-kinder-konzert/
LOCATION:Casino Theater Winterthur\, Stadthausstrasse 119\, Winterthur\, 8400
END:VEVENT
BEGIN:VEVENT
DTSTART;TZID=Europe/Zurich:20251122T183000
DTEND;TZID=Europe/Zurich:20251122T203000
DTSTAMP:20260421T220328
CREATED:20251106T161055Z
LAST-MODIFIED:20251106T161825Z
UID:826-1763836200-1763843400@luciagutierrezgual.com
SUMMARY:Orchester Camerata Castello: Elias
DESCRIPTION:
URL:https://luciagutierrezgual.com/event/orchester-camerata-castello-elias/
LOCATION:Stadtkirche St. Johann\, Rapperswil\, Herrenberg 52\, Rapperswill-Jona\, 8640\, Switzerland
ATTACH;FMTTYPE=image/jpeg:https://luciagutierrezgual.com/wp-content/uploads/2025/11/elias-3.jpg
END:VEVENT
BEGIN:VEVENT
DTSTART;TZID=Europe/Zurich:20251026T170000
DTEND;TZID=Europe/Zurich:20251026T190000
DTSTAMP:20260421T220328
CREATED:20251013T094655Z
LAST-MODIFIED:20251013T094741Z
UID:797-1761498000-1761505200@luciagutierrezgual.com
SUMMARY:Giselle\, Bayerisches Staatsballett 
DESCRIPTION:
URL:https://luciagutierrezgual.com/event/giselle-bayerisches-staatsballett-5/
LOCATION:Gran Teatre del Liceu\, La Rambla 59\, Barcelona\, 08002\, Spain
ATTACH;FMTTYPE=image/jpeg:https://luciagutierrezgual.com/wp-content/uploads/2025/10/Giselle_01-3.jpg
END:VEVENT
BEGIN:VEVENT
DTSTART;TZID=Europe/Zurich:20251025T190000
DTEND;TZID=Europe/Zurich:20251025T210000
DTSTAMP:20260421T220328
CREATED:20251013T094554Z
LAST-MODIFIED:20251013T094554Z
UID:794-1761418800-1761426000@luciagutierrezgual.com
SUMMARY:Giselle\, Bayerisches Staatsballett 
DESCRIPTION:
URL:https://luciagutierrezgual.com/event/giselle-bayerisches-staatsballett-4/
LOCATION:Gran Teatre del Liceu\, La Rambla 59\, Barcelona\, 08002\, Spain
ATTACH;FMTTYPE=image/jpeg:https://luciagutierrezgual.com/wp-content/uploads/2025/10/Giselle_01-3.jpg
END:VEVENT
BEGIN:VEVENT
DTSTART;TZID=Europe/Zurich:20251024T193000
DTEND;TZID=Europe/Zurich:20251024T213000
DTSTAMP:20260421T220328
CREATED:20251013T094404Z
LAST-MODIFIED:20251013T094404Z
UID:793-1761334200-1761341400@luciagutierrezgual.com
SUMMARY:Giselle\, Bayerisches Staatsballett 
DESCRIPTION:
URL:https://luciagutierrezgual.com/event/giselle-bayerisches-staatsballett-3/
LOCATION:Gran Teatre del Liceu\, La Rambla 59\, Barcelona\, 08002\, Spain
ATTACH;FMTTYPE=image/jpeg:https://luciagutierrezgual.com/wp-content/uploads/2025/10/Giselle_01-3.jpg
END:VEVENT
BEGIN:VEVENT
DTSTART;TZID=Europe/Zurich:20251023T193000
DTEND;TZID=Europe/Zurich:20251023T213000
DTSTAMP:20260421T220328
CREATED:20251013T093943Z
LAST-MODIFIED:20251013T093943Z
UID:790-1761247800-1761255000@luciagutierrezgual.com
SUMMARY:Giselle\, Bayerisches Staatsballett 
DESCRIPTION:
URL:https://luciagutierrezgual.com/event/giselle-bayerisches-staatsballett-2/
LOCATION:Gran Teatre del Liceu\, La Rambla 59\, Barcelona\, 08002\, Spain
ATTACH;FMTTYPE=image/jpeg:https://luciagutierrezgual.com/wp-content/uploads/2025/10/Giselle_01-3.jpg
END:VEVENT
BEGIN:VEVENT
DTSTART;TZID=Europe/Zurich:20251021T193000
DTEND;TZID=Europe/Zurich:20251021T213000
DTSTAMP:20260421T220328
CREATED:20251013T093808Z
LAST-MODIFIED:20251013T093808Z
UID:782-1761075000-1761082200@luciagutierrezgual.com
SUMMARY:Giselle\, Bayerisches Staatsballett 
DESCRIPTION:
URL:https://luciagutierrezgual.com/event/giselle-bayerisches-staatsballett/
LOCATION:Gran Teatre del Liceu\, La Rambla 59\, Barcelona\, 08002\, Spain
ATTACH;FMTTYPE=image/jpeg:https://luciagutierrezgual.com/wp-content/uploads/2025/10/Giselle_01-3.jpg
END:VEVENT
BEGIN:VEVENT
DTSTART;VALUE=DATE:20250920
DTEND;VALUE=DATE:20250921
DTSTAMP:20260421T220328
CREATED:20250614T091158Z
LAST-MODIFIED:20250821T114029Z
UID:669-1758326400-1758412799@luciagutierrezgual.com
SUMMARY:Dvořák's String Quartet op.106 no.13 in G Major
DESCRIPTION:Violin 1 : Lucía Gutiérrez Gual\nViolin 2: Laurent Bourquin\nViola: Enrique Baiget\nCello: Carla Keller
URL:https://luciagutierrezgual.com/event/string-quartet-in-ascona-music-festival/
LOCATION:Ascona\, Ascona\, Locarno\, Switzerland
ATTACH;FMTTYPE=image/png:https://luciagutierrezgual.com/wp-content/uploads/2025/06/Untitled-design-2022-04-18T201215.463-1-650x325-1.png
END:VEVENT
BEGIN:VEVENT
DTSTART;TZID=Europe/Zurich:20250828T170000
DTEND;TZID=Europe/Zurich:20250828T190000
DTSTAMP:20260421T220328
CREATED:20250819T124748Z
LAST-MODIFIED:20250824T101252Z
UID:687-1756400400-1756407600@luciagutierrezgual.com
SUMMARY:Haydn's String Quartet op.20 no.2 in C Major
DESCRIPTION:Violin 1: Sophie Guille des Buttes\nViolin 2: Lucía Gutiérrez Gual\nViola: Louise Metzger\nCello: Pierre Poujol
URL:https://luciagutierrezgual.com/event/string-quartet-in-musique-a-flaine/
LOCATION:Flaine Auditorium\, Flaine\, France
ATTACH;FMTTYPE=image/png:https://luciagutierrezgual.com/wp-content/uploads/2025/08/171actualites_1576.png
END:VEVENT
BEGIN:VEVENT
DTSTART;TZID=Europe/Zurich:20250628T193000
DTEND;TZID=Europe/Zurich:20250628T213000
DTSTAMP:20260421T220328
CREATED:20250419T185139Z
LAST-MODIFIED:20250419T185139Z
UID:616-1751139000-1751146200@luciagutierrezgual.com
SUMMARY:BSO Epic Game Moments in Concert
DESCRIPTION:
URL:https://luciagutierrezgual.com/event/bso-epic-game-moments-in-concert-2/
LOCATION:Stadttheater – Buhnen Bern\, Kornhauspl. 20\, Bern\, 3011\, Switzerland
ATTACH;FMTTYPE=image/jpeg:https://luciagutierrezgual.com/wp-content/uploads/2025/04/IMG_2124.jpeg
END:VEVENT
BEGIN:VEVENT
DTSTART;TZID=Europe/Zurich:20250627T193000
DTEND;TZID=Europe/Zurich:20250627T213000
DTSTAMP:20260421T220328
CREATED:20250419T185010Z
LAST-MODIFIED:20250419T185010Z
UID:613-1751052600-1751059800@luciagutierrezgual.com
SUMMARY:BSO Epic Game Moments in Concert
DESCRIPTION:
URL:https://luciagutierrezgual.com/event/bso-epic-game-moments-in-concert/
LOCATION:Stadttheater – Buhnen Bern\, Kornhauspl. 20\, Bern\, 3011\, Switzerland
ATTACH;FMTTYPE=image/jpeg:https://luciagutierrezgual.com/wp-content/uploads/2025/04/IMG_2124.jpeg
END:VEVENT
BEGIN:VEVENT
DTSTART;TZID=Europe/Zurich:20250620T193000
DTEND;TZID=Europe/Zurich:20250620T213000
DTSTAMP:20260421T220328
CREATED:20250618T205210Z
LAST-MODIFIED:20250618T205210Z
UID:682-1750447800-1750455000@luciagutierrezgual.com
SUMMARY:Sinfonieorchester Biel-Solothurn + HKB Solisten
DESCRIPTION:
URL:https://luciagutierrezgual.com/event/sinfonieorchester-biel-solothurn-hkb-solisten/
LOCATION:Casino Bern\, Casinopl. 1\, Bern\, 3011\, Switzerland
ATTACH;FMTTYPE=image/jpeg:https://luciagutierrezgual.com/wp-content/uploads/2025/06/Diplome25-solistinnenkonzert-2.jpg
END:VEVENT
BEGIN:VEVENT
DTSTART;TZID=Europe/Zurich:20250615T170000
DTEND;TZID=Europe/Zurich:20250615T190000
DTSTAMP:20260421T220328
CREATED:20250520T094841Z
LAST-MODIFIED:20250520T094841Z
UID:630-1750006800-1750014000@luciagutierrezgual.com
SUMMARY:Sinfonietta Bern: SPIU-ZÜGS-KON-ZÄRT
DESCRIPTION:
URL:https://luciagutierrezgual.com/event/sinfonietta-bern-spiu-zugs-kon-zart-4/
LOCATION:PROGR Bern\, Aula\, Waisenhausplatz 30\, Bern\, 3011\, Switzerland
ATTACH;FMTTYPE=image/webp:https://luciagutierrezgual.com/wp-content/uploads/2025/05/sinfonietta_bern_social_Монтажная_область_1_копия_5-f8d49f89-1920w.jpg.webp
END:VEVENT
BEGIN:VEVENT
DTSTART;TZID=Europe/Zurich:20250614T190000
DTEND;TZID=Europe/Zurich:20250614T210000
DTSTAMP:20260421T220328
CREATED:20250520T094529Z
LAST-MODIFIED:20250520T094529Z
UID:626-1749927600-1749934800@luciagutierrezgual.com
SUMMARY:Sinfonietta Bern: SPIU-ZÜGS-KON-ZÄRT
DESCRIPTION:
URL:https://luciagutierrezgual.com/event/sinfonietta-bern-spiu-zugs-kon-zart-3/
LOCATION:Bernapark Stettlen\, Eventhalle\, Bernapark 1\, Stettlen\, 3066\, Switzerland
ATTACH;FMTTYPE=image/webp:https://luciagutierrezgual.com/wp-content/uploads/2025/05/sinfonietta_bern_social_Монтажная_область_1_копия_5-f8d49f89-1920w.jpg.webp
END:VEVENT
BEGIN:VEVENT
DTSTART;TZID=Europe/Zurich:20250613T163000
DTEND;TZID=Europe/Zurich:20250613T183000
DTSTAMP:20260421T220328
CREATED:20250520T093627Z
LAST-MODIFIED:20250520T094157Z
UID:619-1749832200-1749839400@luciagutierrezgual.com
SUMMARY:Sinfonietta Bern: SPIU-ZÜGS-KON-ZÄRT
DESCRIPTION:
URL:https://luciagutierrezgual.com/event/sinfonietta-bern-spiu-zugs-kon-zart/
LOCATION:Bimano Bern\, Zentweg 1A\, Bern\, 3006\, Switzerland
ATTACH;FMTTYPE=image/webp:https://luciagutierrezgual.com/wp-content/uploads/2025/05/sinfonietta_bern_social_Монтажная_область_1_копия_5-f8d49f89-1920w.jpg.webp
END:VEVENT
BEGIN:VEVENT
DTSTART;TZID=Europe/Zurich:20250612T133000
DTEND;TZID=Europe/Zurich:20250612T153000
DTSTAMP:20260421T220328
CREATED:20250520T094035Z
LAST-MODIFIED:20250520T094422Z
UID:624-1749735000-1749742200@luciagutierrezgual.com
SUMMARY:Sinfonietta Bern: SPIU-ZÜGS-KON-ZÄRT
DESCRIPTION:
URL:https://luciagutierrezgual.com/event/sinfonietta-bern-spiu-zugs-kon-zart-2/
LOCATION:Papiliorama\, Moosmatte 1\, Kerzers\, 3210\, Switzerland
ATTACH;FMTTYPE=image/webp:https://luciagutierrezgual.com/wp-content/uploads/2025/05/sinfonietta_bern_social_Монтажная_область_1_копия_5-f8d49f89-1920w.jpg.webp
END:VEVENT
BEGIN:VEVENT
DTSTART;TZID=Europe/Zurich:20250607T193000
DTEND;TZID=Europe/Zurich:20250607T213000
DTSTAMP:20260421T220328
CREATED:20250419T183547Z
LAST-MODIFIED:20250419T183547Z
UID:600-1749324600-1749331800@luciagutierrezgual.com
SUMMARY:Rigoletto
DESCRIPTION:
URL:https://luciagutierrezgual.com/event/rigoletto-3/
LOCATION:Stadttheater – Buhnen Bern\, Kornhauspl. 20\, Bern\, 3011\, Switzerland
ATTACH;FMTTYPE=image/jpeg:https://luciagutierrezgual.com/wp-content/uploads/2025/01/IMG_2048.jpeg
END:VEVENT
BEGIN:VEVENT
DTSTART;TZID=Europe/Zurich:20250606T193000
DTEND;TZID=Europe/Zurich:20250606T213000
DTSTAMP:20260421T220328
CREATED:20250226T160335Z
LAST-MODIFIED:20250226T160434Z
UID:591-1749238200-1749245400@luciagutierrezgual.com
SUMMARY:BSO with Nemanja Radulović and Krzysztof Urbański
DESCRIPTION:
URL:https://luciagutierrezgual.com/event/nemanja-radulovic-and-krzysztof-urbanski-2/
LOCATION:Casino Bern\, Casinopl. 1\, Bern\, 3011\, Switzerland
ATTACH;FMTTYPE=image/jpeg:https://luciagutierrezgual.com/wp-content/uploads/2025/02/bb_bso_websujets_header_desktop_1920x1080_aus-der-neuen-welt.640x0.jpg
END:VEVENT
BEGIN:VEVENT
DTSTART;TZID=Europe/Zurich:20250605T193000
DTEND;TZID=Europe/Zurich:20250605T213000
DTSTAMP:20260421T220328
CREATED:20250226T145211Z
LAST-MODIFIED:20250226T145211Z
UID:594-1749151800-1749159000@luciagutierrezgual.com
SUMMARY:BSO with Nemanja Radulović and Krzysztof Urbański
DESCRIPTION:
URL:https://luciagutierrezgual.com/event/bso-with-nemanja-radulovic-and-krzysztof-urbanski/
LOCATION:Casino Bern\, Casinopl. 1\, Bern\, 3011\, Switzerland
ATTACH;FMTTYPE=image/jpeg:https://luciagutierrezgual.com/wp-content/uploads/2025/02/bb_bso_websujets_header_desktop_1920x1080_aus-der-neuen-welt.640x0.jpg
END:VEVENT
BEGIN:VEVENT
DTSTART;TZID=Europe/Zurich:20250525T160000
DTEND;TZID=Europe/Zurich:20250525T170000
DTSTAMP:20260421T220328
CREATED:20250520T100208Z
LAST-MODIFIED:20250520T100309Z
UID:633-1748188800-1748192400@luciagutierrezgual.com
SUMMARY:Masterclass mit Alina Ibragimova
DESCRIPTION:
URL:https://luciagutierrezgual.com/event/masterclass-mit-alina-ibragimova/
LOCATION:ZHdK 6.G02\, Pfingstweidstrasse 96\, Zürich\, Switzerland
ATTACH;FMTTYPE=image/jpeg:https://luciagutierrezgual.com/wp-content/uploads/2025/05/large.jpeg
END:VEVENT
BEGIN:VEVENT
DTSTART;TZID=Europe/Zurich:20250518T150000
DTEND;TZID=Europe/Zurich:20250518T170000
DTSTAMP:20260421T220328
CREATED:20250129T161304Z
LAST-MODIFIED:20250129T161304Z
UID:554-1747580400-1747587600@luciagutierrezgual.com
SUMMARY:SFO plays Haydn: Die Schöpfung
DESCRIPTION:
URL:https://luciagutierrezgual.com/event/sfo-plays-haydn-die-schopfung/
LOCATION:Tonhalle Zürich\, Claridenstrasse u\, Zürich\, Switzerland
ATTACH;FMTTYPE=image/jpeg:https://luciagutierrezgual.com/wp-content/uploads/2025/01/IMG_2049.jpeg
END:VEVENT
BEGIN:VEVENT
DTSTART;TZID=Europe/Zurich:20250509T193000
DTEND;TZID=Europe/Zurich:20250509T213000
DTSTAMP:20260421T220328
CREATED:20250419T184402Z
LAST-MODIFIED:20250419T184402Z
UID:611-1746819000-1746826200@luciagutierrezgual.com
SUMMARY:BSO Casino Royale
DESCRIPTION:
URL:https://luciagutierrezgual.com/event/bso-casino-royale-3/
LOCATION:Festhalle BEA EXPO “The Cube”
ATTACH;FMTTYPE=image/jpeg:https://luciagutierrezgual.com/wp-content/uploads/2025/04/IMG_2123.jpeg
END:VEVENT
BEGIN:VEVENT
DTSTART;TZID=Europe/Zurich:20250508T193000
DTEND;TZID=Europe/Zurich:20250508T213000
DTSTAMP:20260421T220328
CREATED:20250419T184233Z
LAST-MODIFIED:20250419T184233Z
UID:608-1746732600-1746739800@luciagutierrezgual.com
SUMMARY:BSO Casino Royale
DESCRIPTION:
URL:https://luciagutierrezgual.com/event/bso-casino-royale-2/
LOCATION:Festhalle BEA EXPO “The Cube”
ATTACH;FMTTYPE=image/jpeg:https://luciagutierrezgual.com/wp-content/uploads/2025/04/IMG_2123.jpeg
END:VEVENT
END:VCALENDAR