BEGIN:VCALENDAR
VERSION:2.0
PRODID:-//Lucía Gutiérrez Gual - ECPv6.15.20//NONSGML v1.0//EN
CALSCALE:GREGORIAN
METHOD:PUBLISH
X-WR-CALNAME:Lucía Gutiérrez Gual
X-ORIGINAL-URL:https://luciagutierrezgual.com
X-WR-CALDESC:Events for Lucía Gutiérrez Gual
REFRESH-INTERVAL;VALUE=DURATION:PT1H
X-Robots-Tag:noindex
X-PUBLISHED-TTL:PT1H
BEGIN:VTIMEZONE
TZID:Europe/Zurich
BEGIN:DAYLIGHT
TZOFFSETFROM:+0100
TZOFFSETTO:+0200
TZNAME:CEST
DTSTART:20240331T010000
END:DAYLIGHT
BEGIN:STANDARD
TZOFFSETFROM:+0200
TZOFFSETTO:+0100
TZNAME:CET
DTSTART:20241027T010000
END:STANDARD
BEGIN:DAYLIGHT
TZOFFSETFROM:+0100
TZOFFSETTO:+0200
TZNAME:CEST
DTSTART:20250330T010000
END:DAYLIGHT
BEGIN:STANDARD
TZOFFSETFROM:+0200
TZOFFSETTO:+0100
TZNAME:CET
DTSTART:20251026T010000
END:STANDARD
BEGIN:DAYLIGHT
TZOFFSETFROM:+0100
TZOFFSETTO:+0200
TZNAME:CEST
DTSTART:20260329T010000
END:DAYLIGHT
BEGIN:STANDARD
TZOFFSETFROM:+0200
TZOFFSETTO:+0100
TZNAME:CET
DTSTART:20261025T010000
END:STANDARD
BEGIN:DAYLIGHT
TZOFFSETFROM:+0100
TZOFFSETTO:+0200
TZNAME:CEST
DTSTART:20270328T010000
END:DAYLIGHT
BEGIN:STANDARD
TZOFFSETFROM:+0200
TZOFFSETTO:+0100
TZNAME:CET
DTSTART:20271031T010000
END:STANDARD
END:VTIMEZONE
BEGIN:VEVENT
DTSTART;TZID=Europe/Zurich:20260615T193000
DTEND;TZID=Europe/Zurich:20260615T213000
DTSTAMP:20260421T190508
CREATED:20260319T124153Z
LAST-MODIFIED:20260319T124153Z
UID:945-1781551800-1781559000@luciagutierrezgual.com
SUMMARY:BSO: HKB Diplomkonzert
DESCRIPTION:
URL:https://luciagutierrezgual.com/event/bso-hkb-diplomkonzert/
LOCATION:Casino Bern\, Casinopl. 1\, Bern\, 3011\, Switzerland
ATTACH;FMTTYPE=image/jpeg:https://luciagutierrezgual.com/wp-content/uploads/2026/03/hkb_diplome23_solistinnen_casino.950x0.jpg
END:VEVENT
BEGIN:VEVENT
DTSTART;TZID=Europe/Zurich:20260605T193000
DTEND;TZID=Europe/Zurich:20260605T213000
DTSTAMP:20260421T190508
CREATED:20260319T123905Z
LAST-MODIFIED:20260319T123905Z
UID:943-1780687800-1780695000@luciagutierrezgual.com
SUMMARY:BSO: Brückners Vermächtnis
DESCRIPTION:
URL:https://luciagutierrezgual.com/event/bso-bruckners-vermachtnis-2/
LOCATION:Casino Bern\, Casinopl. 1\, Bern\, 3011\, Switzerland
ATTACH;FMTTYPE=image/jpeg:https://luciagutierrezgual.com/wp-content/uploads/2026/03/berner_symphonieorchester_krzysztof_urbanski_66_web.350x450.jpg
END:VEVENT
BEGIN:VEVENT
DTSTART;TZID=Europe/Zurich:20260604T193000
DTEND;TZID=Europe/Zurich:20260604T213000
DTSTAMP:20260421T190508
CREATED:20260319T123757Z
LAST-MODIFIED:20260319T123757Z
UID:939-1780601400-1780608600@luciagutierrezgual.com
SUMMARY:BSO: Brückners Vermächtnis
DESCRIPTION:
URL:https://luciagutierrezgual.com/event/bso-bruckners-vermachtnis/
LOCATION:Casino Bern\, Casinopl. 1\, Bern\, 3011\, Switzerland
ATTACH;FMTTYPE=image/jpeg:https://luciagutierrezgual.com/wp-content/uploads/2026/03/berner_symphonieorchester_krzysztof_urbanski_66_web.350x450.jpg
END:VEVENT
BEGIN:VEVENT
DTSTART;TZID=Europe/Zurich:20260516T183000
DTEND;TZID=Europe/Zurich:20260516T203000
DTSTAMP:20260421T190508
CREATED:20260116T105454Z
LAST-MODIFIED:20260116T105454Z
UID:902-1778956200-1778963400@luciagutierrezgual.com
SUMMARY:SFO: Mozart in Tonhalle Zürich
DESCRIPTION:
URL:https://luciagutierrezgual.com/event/sfo-mozart-in-tonhalle-zurich/
LOCATION:Tonhalle Zürich\, Claridenstrasse u\, Zürich\, Switzerland
ATTACH;FMTTYPE=image/jpeg:https://luciagutierrezgual.com/wp-content/uploads/2026/01/glarisegger-choir.jpg
END:VEVENT
BEGIN:VEVENT
DTSTART;TZID=Europe/Zurich:20260510T170000
DTEND;TZID=Europe/Zurich:20260510T203000
DTSTAMP:20260421T190508
CREATED:20260116T105900Z
LAST-MODIFIED:20260116T105900Z
UID:905-1778432400-1778445000@luciagutierrezgual.com
SUMMARY:SFO: Mozart in Amriswil
DESCRIPTION:
URL:https://luciagutierrezgual.com/event/sfo-mozart-in-amriswil/
LOCATION:Amriswil\, Evangelische Kirche Amriswil\, Friedhofweg 1\, Amriswil\, 8580\, Switzerland
ATTACH;FMTTYPE=image/jpeg:https://luciagutierrezgual.com/wp-content/uploads/2026/01/glarisegger-choir.jpg
END:VEVENT
BEGIN:VEVENT
DTSTART;TZID=Europe/Zurich:20260426T193000
DTEND;TZID=Europe/Zurich:20260426T213000
DTSTAMP:20260421T190508
CREATED:20260407T111224Z
LAST-MODIFIED:20260407T111224Z
UID:966-1777231800-1777239000@luciagutierrezgual.com
SUMMARY:Estrella Damm: 150è aniversari al Gran Teatre del Liceu
DESCRIPTION:
URL:https://luciagutierrezgual.com/event/estrella-damm-150e-aniversari-al-gran-teatre-del-liceu/
LOCATION:Gran Teatre del Liceu\, La Rambla 59\, Barcelona\, 08002\, Spain
ATTACH;FMTTYPE=image/png:https://luciagutierrezgual.com/wp-content/uploads/2026/04/150anys-750x400-1.png
END:VEVENT
BEGIN:VEVENT
DTSTART;TZID=Europe/Zurich:20260419T173000
DTEND;TZID=Europe/Zurich:20260419T213000
DTSTAMP:20260421T190508
CREATED:20260407T110631Z
LAST-MODIFIED:20260413T152110Z
UID:964-1776619800-1776634200@luciagutierrezgual.com
SUMMARY:City Light: Interstellar
DESCRIPTION:
URL:https://luciagutierrezgual.com/event/city-light-interstellar-5/
LOCATION:KKL Luzern\, Europaplatz. 1\, Luzern\, 6005\, Switzerland
ATTACH;FMTTYPE=image/png:https://luciagutierrezgual.com/wp-content/uploads/2025/11/1759914243-interstellar-copia.png
END:VEVENT
BEGIN:VEVENT
DTSTART;TZID=Europe/Zurich:20260418T193000
DTEND;TZID=Europe/Zurich:20260418T213000
DTSTAMP:20260421T190508
CREATED:20260407T110511Z
LAST-MODIFIED:20260413T175753Z
UID:962-1776540600-1776547800@luciagutierrezgual.com
SUMMARY:City Light: Interstellar
DESCRIPTION:
URL:https://luciagutierrezgual.com/event/city-light-interstellar-4/
LOCATION:KKL Luzern\, Europaplatz. 1\, Luzern\, 6005\, Switzerland
ATTACH;FMTTYPE=image/png:https://luciagutierrezgual.com/wp-content/uploads/2025/11/1759914243-interstellar-copia.png
END:VEVENT
BEGIN:VEVENT
DTSTART;TZID=Europe/Zurich:20260402T193000
DTEND;TZID=Europe/Zurich:20260402T213000
DTSTAMP:20260421T190508
CREATED:20260325T091456Z
LAST-MODIFIED:20260325T091456Z
UID:956-1775158200-1775165400@luciagutierrezgual.com
SUMMARY:Sinfonisches Orchester Schweiz: Dvořák's Stabat Mater
DESCRIPTION:
URL:https://luciagutierrezgual.com/event/sinfonisches-orchester-schweiz-dvoraks-stabat-mater/
LOCATION:Basler Munster\, Münsterplatz 9\, Basel\, 4051\, Switzerland
ATTACH;FMTTYPE=image/webp:https://luciagutierrezgual.com/wp-content/uploads/2026/03/36RHZKHjHxtgjQZupdpL2Wom4FAr55eOOYckqPakTG3s4ISmguWzVoSLf7MnLAnc.webp
END:VEVENT
BEGIN:VEVENT
DTSTART;TZID=Europe/Zurich:20260328T193000
DTEND;TZID=Europe/Zurich:20260328T213000
DTSTAMP:20260421T190508
CREATED:20260117T153018Z
LAST-MODIFIED:20260117T153041Z
UID:908-1774726200-1774733400@luciagutierrezgual.com
SUMMARY:Rhenus Consort: "The Armed Man" by Jenkins
DESCRIPTION:
URL:https://luciagutierrezgual.com/event/rhenus-consort-the-armed-man-by-jenkins/
LOCATION:Reformierte Kirche St. Johann\, Kirchhofplatz 7\, Schaffhausen\, 8200\, Switzerland
ATTACH;FMTTYPE=image/jpeg:https://luciagutierrezgual.com/wp-content/uploads/2026/01/81cccafdf1dafe6c-8esw2w8nnvkey38.jpg
END:VEVENT
BEGIN:VEVENT
DTSTART;TZID=Europe/Zurich:20260322T170000
DTEND;TZID=Europe/Zurich:20260322T190000
DTSTAMP:20260421T190508
CREATED:20260315T205023Z
LAST-MODIFIED:20260315T205023Z
UID:930-1774198800-1774206000@luciagutierrezgual.com
SUMMARY:Chorseminar und Sinfonieorchester Liechtenstein
DESCRIPTION:
URL:https://luciagutierrezgual.com/event/chorseminar-und-sinfonieorchester-liechtenstein-2/
LOCATION:Grosser Saal\, SAL\, Schaan\, Landstrasse 19\, Schaan\, 9494\, Liechtenstein
ATTACH;FMTTYPE=image/jpeg:https://luciagutierrezgual.com/wp-content/uploads/2026/03/Flyer_Vorderseite_Chorseminar_2026_1-1.jpg
END:VEVENT
BEGIN:VEVENT
DTSTART;TZID=Europe/Zurich:20260321T193000
DTEND;TZID=Europe/Zurich:20260321T213000
DTSTAMP:20260421T190508
CREATED:20260315T204810Z
LAST-MODIFIED:20260315T205148Z
UID:925-1774121400-1774128600@luciagutierrezgual.com
SUMMARY:Chorseminar und Sinfonieorchester Liechtenstein
DESCRIPTION:
URL:https://luciagutierrezgual.com/event/chorseminar-und-sinfonieorchester-liechtenstein/
LOCATION:Kulturbühne Am Bach\, Götzis\, Am Bach 10\, Götzis\, 6840\, Austria
ATTACH;FMTTYPE=image/jpeg:https://luciagutierrezgual.com/wp-content/uploads/2026/03/Flyer_Vorderseite_Chorseminar_2026_1-1.jpg
END:VEVENT
BEGIN:VEVENT
DTSTART;TZID=Europe/Zurich:20260307T180000
DTEND;TZID=Europe/Zurich:20260307T200000
DTSTAMP:20260421T190508
CREATED:20260304T105040Z
LAST-MODIFIED:20260304T105040Z
UID:920-1772906400-1772913600@luciagutierrezgual.com
SUMMARY:A Child of our Time - Te deum
DESCRIPTION:
URL:https://luciagutierrezgual.com/event/a-child-of-our-time-te-deum/
LOCATION:Pauluskirche Zurich\, Milchbuckstrasse 57\, Zürich\, 8057\, Switzerland
ATTACH;FMTTYPE=image/jpeg:https://luciagutierrezgual.com/wp-content/uploads/2026/03/large.jpeg
END:VEVENT
BEGIN:VEVENT
DTSTART;TZID=Europe/Zurich:20260220T193000
DTEND;TZID=Europe/Zurich:20260220T213000
DTSTAMP:20260421T190508
CREATED:20260225T071757Z
LAST-MODIFIED:20260225T071757Z
UID:917-1771615800-1771623000@luciagutierrezgual.com
SUMMARY:BSO Klang Alchemie & María Dueñas
DESCRIPTION:
URL:https://luciagutierrezgual.com/event/bso-klang-alchemie-maria-duenas/
LOCATION:Casino Bern\, Casinopl. 1\, Bern\, 3011\, Switzerland
ATTACH;FMTTYPE=image/jpeg:https://luciagutierrezgual.com/wp-content/uploads/2026/02/maria_duenas2024-c-sonjamueller_02_00312.350x450.jpg
END:VEVENT
BEGIN:VEVENT
DTSTART;TZID=Europe/Zurich:20260219T193000
DTEND;TZID=Europe/Zurich:20260219T213000
DTSTAMP:20260421T190508
CREATED:20260225T071551Z
LAST-MODIFIED:20260225T071551Z
UID:914-1771529400-1771536600@luciagutierrezgual.com
SUMMARY:BSO Klang Alchemie & María Dueñas
DESCRIPTION:
URL:https://luciagutierrezgual.com/event/klang-alchemie/
LOCATION:Casino Bern\, Casinopl. 1\, Bern\, 3011\, Switzerland
ATTACH;FMTTYPE=image/jpeg:https://luciagutierrezgual.com/wp-content/uploads/2026/02/maria_duenas2024-c-sonjamueller_02_00312.350x450.jpg
END:VEVENT
BEGIN:VEVENT
DTSTART;TZID=Europe/Zurich:20260123T193000
DTEND;TZID=Europe/Zurich:20260123T213000
DTSTAMP:20260421T190508
CREATED:20260116T094537Z
LAST-MODIFIED:20260116T094537Z
UID:887-1769196600-1769203800@luciagutierrezgual.com
SUMMARY:Im Rausch der Ballmusik
DESCRIPTION:
URL:https://luciagutierrezgual.com/event/imrauschderballmusik/
LOCATION:Kirche Oberstrass Zürich\, Stapferstrasse 58\, Zürich\, 8006\, Switzerland
ATTACH;FMTTYPE=image/png:https://luciagutierrezgual.com/wp-content/uploads/2026/01/BALLMUSIK-23-Jan-2026-1.png
END:VEVENT
BEGIN:VEVENT
DTSTART;TZID=Europe/Zurich:20260116T193000
DTEND;TZID=Europe/Zurich:20260116T213000
DTSTAMP:20260421T190508
CREATED:20251106T133625Z
LAST-MODIFIED:20251106T162934Z
UID:815-1768591800-1768599000@luciagutierrezgual.com
SUMMARY:BSO Nordlichter
DESCRIPTION:
URL:https://luciagutierrezgual.com/event/bso-nordlichter/
LOCATION:Casino Bern\, Casinopl. 1\, Bern\, 3011\, Switzerland
ATTACH;FMTTYPE=image/jpeg:https://luciagutierrezgual.com/wp-content/uploads/2025/11/header_bso_06syko_nordlichter-min.1920x0-4.jpg
END:VEVENT
BEGIN:VEVENT
DTSTART;TZID=Europe/Zurich:20260115T193000
DTEND;TZID=Europe/Zurich:20260115T213000
DTSTAMP:20260421T190508
CREATED:20251106T133531Z
LAST-MODIFIED:20251106T162412Z
UID:810-1768505400-1768512600@luciagutierrezgual.com
SUMMARY:BSO Nordlichter
DESCRIPTION:
URL:https://luciagutierrezgual.com/event/nordlichter/
LOCATION:Casino Bern\, Casinopl. 1\, Bern\, 3011\, Switzerland
ATTACH;FMTTYPE=image/jpeg:https://luciagutierrezgual.com/wp-content/uploads/2025/11/header_bso_06syko_nordlichter-min.1920x0-4.jpg
END:VEVENT
BEGIN:VEVENT
DTSTART;TZID=Europe/Zurich:20260104T180000
DTEND;TZID=Europe/Zurich:20260104T200000
DTSTAMP:20260421T190508
CREATED:20251112T143500Z
LAST-MODIFIED:20251112T143500Z
UID:850-1767549600-1767556800@luciagutierrezgual.com
SUMMARY:Teatre del Liceu\, Concert d'Any Nou
DESCRIPTION:
URL:https://luciagutierrezgual.com/event/teatre-del-liceu-concert-dany-nou/
LOCATION:Gran Teatre del Liceu\, La Rambla 59\, Barcelona\, 08002\, Spain
ATTACH;FMTTYPE=image/jpeg:https://luciagutierrezgual.com/wp-content/uploads/2025/11/Imatge.jpeg
END:VEVENT
BEGIN:VEVENT
DTSTART;TZID=Europe/Zurich:20260102T170000
DTEND;TZID=Europe/Zurich:20260102T190000
DTSTAMP:20260421T190508
CREATED:20251106T135442Z
LAST-MODIFIED:20251106T155118Z
UID:819-1767373200-1767380400@luciagutierrezgual.com
SUMMARY:BSO Neujahrskonzert: Ode an die Freude
DESCRIPTION:
URL:https://luciagutierrezgual.com/event/bso-neujahrskonzert-ode-an-die-freude/
LOCATION:Casino Bern\, Casinopl. 1\, Bern\, 3011\, Switzerland
ATTACH;FMTTYPE=image/jpeg:https://luciagutierrezgual.com/wp-content/uploads/2025/11/header_bso_extra_neujahr.1920x0-3.jpg
END:VEVENT
BEGIN:VEVENT
DTSTART;TZID=Europe/Zurich:20260101T170000
DTEND;TZID=Europe/Zurich:20260101T190000
DTSTAMP:20260421T190508
CREATED:20251106T134031Z
LAST-MODIFIED:20251106T155406Z
UID:817-1767286800-1767294000@luciagutierrezgual.com
SUMMARY:BSO Neujahrskonzert: Ode an die Freude
DESCRIPTION:
URL:https://luciagutierrezgual.com/event/neujahrskonzert/
LOCATION:Casino Bern\, Casinopl. 1\, Bern\, 3011\, Switzerland
ATTACH;FMTTYPE=image/jpeg:https://luciagutierrezgual.com/wp-content/uploads/2025/11/header_bso_extra_neujahr.1920x0-3.jpg
END:VEVENT
BEGIN:VEVENT
DTSTART;TZID=Europe/Zurich:20251231T160000
DTEND;TZID=Europe/Zurich:20251231T180000
DTSTAMP:20260421T190508
CREATED:20251202T172050Z
LAST-MODIFIED:20251202T172050Z
UID:865-1767196800-1767204000@luciagutierrezgual.com
SUMMARY:Silvester Konzert in Rapperswil
DESCRIPTION:
URL:https://luciagutierrezgual.com/event/silvester-konzert-in-rapperswil/
LOCATION:Stadtkirche St. Johann\, Rapperswil\, Herrenberg 52\, Rapperswill-Jona\, 8640\, Switzerland
ATTACH;FMTTYPE=image/jpeg:https://luciagutierrezgual.com/wp-content/uploads/2025/12/Imatge-1.jpeg
END:VEVENT
BEGIN:VEVENT
DTSTART;TZID=Europe/Zurich:20251219T193000
DTEND;TZID=Europe/Zurich:20251219T213000
DTSTAMP:20260421T190508
CREATED:20251106T133116Z
LAST-MODIFIED:20251106T133116Z
UID:808-1766172600-1766179800@luciagutierrezgual.com
SUMMARY:BSO Winterträume
DESCRIPTION:
URL:https://luciagutierrezgual.com/event/bso-wintertraume/
LOCATION:Casino Bern\, Casinopl. 1\, Bern\, 3011\, Switzerland
ATTACH;FMTTYPE=image/jpeg:https://luciagutierrezgual.com/wp-content/uploads/2025/11/header_bso_05syko_wintertraeume-min.1920x0.jpg
END:VEVENT
BEGIN:VEVENT
DTSTART;TZID=Europe/Zurich:20251218T193000
DTEND;TZID=Europe/Zurich:20251218T213000
DTSTAMP:20260421T190508
CREATED:20251106T132932Z
LAST-MODIFIED:20251106T133035Z
UID:805-1766086200-1766093400@luciagutierrezgual.com
SUMMARY:BSO Winterträume
DESCRIPTION:
URL:https://luciagutierrezgual.com/event/wintertraume/
LOCATION:Casino Bern\, Casinopl. 1\, Bern\, 3011\, Switzerland
ATTACH;FMTTYPE=image/jpeg:https://luciagutierrezgual.com/wp-content/uploads/2025/11/header_bso_05syko_wintertraeume-min.1920x0.jpg
END:VEVENT
BEGIN:VEVENT
DTSTART;TZID=Europe/Zurich:20251215T193000
DTEND;TZID=Europe/Zurich:20251215T213000
DTSTAMP:20260421T190508
CREATED:20251124T213600Z
LAST-MODIFIED:20251124T213600Z
UID:862-1765827000-1765834200@luciagutierrezgual.com
SUMMARY:City Light: Interstellar
DESCRIPTION:
URL:https://luciagutierrezgual.com/event/city-light-interstellar-3/
ATTACH;FMTTYPE=image/png:https://luciagutierrezgual.com/wp-content/uploads/2025/11/1759914243-interstellar-copia.png
END:VEVENT
BEGIN:VEVENT
DTSTART;TZID=Europe/Zurich:20251206T193000
DTEND;TZID=Europe/Zurich:20251206T213000
DTSTAMP:20260421T190508
CREATED:20251124T213506Z
LAST-MODIFIED:20251124T213506Z
UID:860-1765049400-1765056600@luciagutierrezgual.com
SUMMARY:City Light: Interstellar
DESCRIPTION:
URL:https://luciagutierrezgual.com/event/city-light-interstellar-2/
ATTACH;FMTTYPE=image/png:https://luciagutierrezgual.com/wp-content/uploads/2025/11/1759914243-interstellar-copia.png
END:VEVENT
BEGIN:VEVENT
DTSTART;TZID=Europe/Zurich:20251205T193000
DTEND;TZID=Europe/Zurich:20251205T213000
DTSTAMP:20260421T190508
CREATED:20251124T213441Z
LAST-MODIFIED:20251124T213441Z
UID:856-1764963000-1764970200@luciagutierrezgual.com
SUMMARY:City Light: Interstellar
DESCRIPTION:
URL:https://luciagutierrezgual.com/event/city-light-interstellar/
ATTACH;FMTTYPE=image/png:https://luciagutierrezgual.com/wp-content/uploads/2025/11/1759914243-interstellar-copia.png
END:VEVENT
BEGIN:VEVENT
DTSTART;TZID=Europe/Zurich:20251130T170000
DTEND;TZID=Europe/Zurich:20251130T183000
DTSTAMP:20260421T190508
CREATED:20251112T103203Z
LAST-MODIFIED:20251112T103529Z
UID:845-1764522000-1764527400@luciagutierrezgual.com
SUMMARY:Klassik Nuevo: Chor&Bündig & Christoph Croisé
DESCRIPTION:
URL:https://luciagutierrezgual.com/event/klassik-nuevo/
LOCATION:Stadtkirche Lenzburg\, Poststrasse 1\, Lenzburg\, 5600\, Switzerland
ATTACH;FMTTYPE=image/webp:https://luciagutierrezgual.com/wp-content/uploads/2025/11/kn-aargau-tour-2025_lenzburg_teaser-homepage_1080x810px_250917.jpg-1.webp
END:VEVENT
BEGIN:VEVENT
DTSTART;TZID=Europe/Zurich:20251128T193000
DTEND;TZID=Europe/Zurich:20251128T213000
DTSTAMP:20260421T190508
CREATED:20251106T132643Z
LAST-MODIFIED:20251106T132643Z
UID:803-1764358200-1764365400@luciagutierrezgual.com
SUMMARY:BSO Die vier Elemente
DESCRIPTION:
URL:https://luciagutierrezgual.com/event/bso-die-vier-elemente/
LOCATION:Casino Bern\, Casinopl. 1\, Bern\, 3011\, Switzerland
ATTACH;FMTTYPE=image/jpeg:https://luciagutierrezgual.com/wp-content/uploads/2025/11/header_bso_04syko_elemente-min.1920x0.jpg
END:VEVENT
BEGIN:VEVENT
DTSTART;TZID=Europe/Zurich:20251127T193000
DTEND;TZID=Europe/Zurich:20251127T213000
DTSTAMP:20260421T190508
CREATED:20251106T132435Z
LAST-MODIFIED:20251106T132435Z
UID:800-1764271800-1764279000@luciagutierrezgual.com
SUMMARY:BSO Die vier Elemente
DESCRIPTION:
URL:https://luciagutierrezgual.com/event/dievierelemente/
LOCATION:Casino Bern\, Casinopl. 1\, Bern\, 3011\, Switzerland
ATTACH;FMTTYPE=image/jpeg:https://luciagutierrezgual.com/wp-content/uploads/2025/11/header_bso_04syko_elemente-min.1920x0.jpg
END:VEVENT
END:VCALENDAR