BEGIN:VCALENDAR
VERSION:2.0
PRODID:-//Lucía Gutiérrez Gual - ECPv6.15.20//NONSGML v1.0//EN
CALSCALE:GREGORIAN
METHOD:PUBLISH
X-ORIGINAL-URL:https://luciagutierrezgual.com
X-WR-CALDESC:Events for Lucía Gutiérrez Gual
REFRESH-INTERVAL;VALUE=DURATION:PT1H
X-Robots-Tag:noindex
X-PUBLISHED-TTL:PT1H
BEGIN:VTIMEZONE
TZID:Europe/Zurich
BEGIN:DAYLIGHT
TZOFFSETFROM:+0100
TZOFFSETTO:+0200
TZNAME:CEST
DTSTART:20250330T010000
END:DAYLIGHT
BEGIN:STANDARD
TZOFFSETFROM:+0200
TZOFFSETTO:+0100
TZNAME:CET
DTSTART:20251026T010000
END:STANDARD
BEGIN:DAYLIGHT
TZOFFSETFROM:+0100
TZOFFSETTO:+0200
TZNAME:CEST
DTSTART:20260329T010000
END:DAYLIGHT
BEGIN:STANDARD
TZOFFSETFROM:+0200
TZOFFSETTO:+0100
TZNAME:CET
DTSTART:20261025T010000
END:STANDARD
BEGIN:DAYLIGHT
TZOFFSETFROM:+0100
TZOFFSETTO:+0200
TZNAME:CEST
DTSTART:20270328T010000
END:DAYLIGHT
BEGIN:STANDARD
TZOFFSETFROM:+0200
TZOFFSETTO:+0100
TZNAME:CET
DTSTART:20271031T010000
END:STANDARD
END:VTIMEZONE
BEGIN:VEVENT
DTSTART;TZID=Europe/Zurich:20260625T183000
DTEND;TZID=Europe/Zurich:20260625T203000
DTSTAMP:20260421T155258
CREATED:20260319T124526Z
LAST-MODIFIED:20260319T124526Z
UID:949-1782412200-1782419400@luciagutierrezgual.com
SUMMARY:BSO: Le sacre du printemps
DESCRIPTION:
URL:https://luciagutierrezgual.com/event/bso-le-sacre-du-printemps/
LOCATION:Casino Bern\, Casinopl. 1\, Bern\, 3011\, Switzerland
ATTACH;FMTTYPE=image/jpeg:https://luciagutierrezgual.com/wp-content/uploads/2026/03/header_bso_12syko_sacre.1920x0.jpg
END:VEVENT
END:VCALENDAR